BEGIN:VCALENDAR
VERSION:2.0
PRODID:-//DuKane Chapter of A.B.A.T.E. of Illinois - ECPv6.15.20//NONSGML v1.0//EN
CALSCALE:GREGORIAN
METHOD:PUBLISH
X-WR-CALNAME:DuKane Chapter of A.B.A.T.E. of Illinois
X-ORIGINAL-URL:https://dukaneabateil.org
X-WR-CALDESC:Events for DuKane Chapter of A.B.A.T.E. of Illinois
REFRESH-INTERVAL;VALUE=DURATION:PT1H
X-Robots-Tag:noindex
X-PUBLISHED-TTL:PT1H
BEGIN:VTIMEZONE
TZID:America/Chicago
BEGIN:DAYLIGHT
TZOFFSETFROM:-0600
TZOFFSETTO:-0500
TZNAME:CDT
DTSTART:20250309T080000
END:DAYLIGHT
BEGIN:STANDARD
TZOFFSETFROM:-0500
TZOFFSETTO:-0600
TZNAME:CST
DTSTART:20251102T070000
END:STANDARD
BEGIN:DAYLIGHT
TZOFFSETFROM:-0600
TZOFFSETTO:-0500
TZNAME:CDT
DTSTART:20260308T080000
END:DAYLIGHT
BEGIN:STANDARD
TZOFFSETFROM:-0500
TZOFFSETTO:-0600
TZNAME:CST
DTSTART:20261101T070000
END:STANDARD
BEGIN:DAYLIGHT
TZOFFSETFROM:-0600
TZOFFSETTO:-0500
TZNAME:CDT
DTSTART:20270314T080000
END:DAYLIGHT
BEGIN:STANDARD
TZOFFSETFROM:-0500
TZOFFSETTO:-0600
TZNAME:CST
DTSTART:20271107T070000
END:STANDARD
END:VTIMEZONE
BEGIN:VEVENT
DTSTART;TZID=America/Chicago:20260217T193000
DTEND;TZID=America/Chicago:20260217T203000
DTSTAMP:20260419T141239
CREATED:20260202T021139Z
LAST-MODIFIED:20260202T021139Z
UID:9159-1771356600-1771360200@dukaneabateil.org
SUMMARY:Dukane ABATE February Meeting
DESCRIPTION:Everyone is invited to join us for our February DuKane ABATE Monthly Membership Meeting at the West Chicago American Legion Post #300.\nWe’re excited to welcome Candidates for Illinois Senate District 33\, Jessica Breugelmans and Danielle Penman\, as our guest speakers. They will take part in a debate on motorcyclists’ rights and issues\, giving you the opportunity to learn where they stand.\nWhether you’re a longtime member or thinking about getting involved\, we’d love to see you there. Bring a friend and be part of the conversation!
URL:https://dukaneabateil.org/event/dukane-abate-february-meeting/
LOCATION:American Legion Post #300\, 123 Main Street\, West Chicago\, IL\, 60185\, United States
END:VEVENT
BEGIN:VEVENT
DTSTART;TZID=America/Chicago:20260221T100000
DTEND;TZID=America/Chicago:20260221T170000
DTSTAMP:20260419T141239
CREATED:20260217T001440Z
LAST-MODIFIED:20260217T001440Z
UID:9198-1771668000-1771693200@dukaneabateil.org
SUMMARY:International Motorcycle Show @ MCC
DESCRIPTION:IMS is back\, and Motor Cycle Center is bringing the tradition that kicked off every Chicago riding season into a modern\, community-driven open house.\nIMS@MCC is the official Spring Season Kickoff for 2026. It’s a place to see new motorcycles\, connect with local riders\, explore gear and riding opportunities\, and get inspired for the season ahead\, all in one stop.\nWhat to expect: \n\nA showcase of new 2026 motorcycles across major brands\nAprilia and Moto Guzzi model launches\nGear and apparel partners\, including custom fit experiences\nTrack\, ADV\, and community riding organizations on site\nStaff walk-arounds\, highlights\, and hands-on conversations\nFood\, music\, giveaways\, and a welcoming open-house atmosphere\n\nWhether you ride street\, track\, ADV\, or are just getting back into motorcycles\, IMS@MCC is built for riders of all experience levels. Come browse\, ask questions\, meet the people behind the brands\, and reconnect with the Midwest moto community.\nThis is where the 2026 riding season begins.\nOpen to all. Bring a friend. Bring your curiosity.
URL:https://dukaneabateil.org/event/international-motorcycle-show-mcc/
LOCATION:Motor Cycle Center\, 443 E St Charles Rd\, Villa Park\, IL\, 60181\, United States
END:VEVENT
END:VCALENDAR