BEGIN:VCALENDAR
VERSION:2.0
PRODID:-//DuKane Chapter of A.B.A.T.E. of Illinois - ECPv6.15.20//NONSGML v1.0//EN
CALSCALE:GREGORIAN
METHOD:PUBLISH
X-ORIGINAL-URL:https://dukaneabateil.org
X-WR-CALDESC:Events for DuKane Chapter of A.B.A.T.E. of Illinois
REFRESH-INTERVAL;VALUE=DURATION:PT1H
X-Robots-Tag:noindex
X-PUBLISHED-TTL:PT1H
BEGIN:VTIMEZONE
TZID:America/Chicago
BEGIN:DAYLIGHT
TZOFFSETFROM:-0600
TZOFFSETTO:-0500
TZNAME:CDT
DTSTART:20250309T080000
END:DAYLIGHT
BEGIN:STANDARD
TZOFFSETFROM:-0500
TZOFFSETTO:-0600
TZNAME:CST
DTSTART:20251102T070000
END:STANDARD
BEGIN:DAYLIGHT
TZOFFSETFROM:-0600
TZOFFSETTO:-0500
TZNAME:CDT
DTSTART:20260308T080000
END:DAYLIGHT
BEGIN:STANDARD
TZOFFSETFROM:-0500
TZOFFSETTO:-0600
TZNAME:CST
DTSTART:20261101T070000
END:STANDARD
BEGIN:DAYLIGHT
TZOFFSETFROM:-0600
TZOFFSETTO:-0500
TZNAME:CDT
DTSTART:20270314T080000
END:DAYLIGHT
BEGIN:STANDARD
TZOFFSETFROM:-0500
TZOFFSETTO:-0600
TZNAME:CST
DTSTART:20271107T070000
END:STANDARD
END:VTIMEZONE
BEGIN:VEVENT
DTSTART;TZID=America/Chicago:20260324T193000
DTEND;TZID=America/Chicago:20260324T203000
DTSTAMP:20260419T140713
CREATED:20260202T021343Z
LAST-MODIFIED:20260222T033347Z
UID:9162-1774380600-1774384200@dukaneabateil.org
SUMMARY:Dukane ABATE Monthly Membership Meeting
DESCRIPTION:
URL:https://dukaneabateil.org/event/dukane-abate-monthly-membership-meeting-2/
LOCATION:American Legion Post #300\, 123 Main Street\, West Chicago\, IL\, 60185\, United States
END:VEVENT
END:VCALENDAR